BEGIN:VCALENDAR
VERSION:2.0
PRODID:-//Polish Institute of Culture &amp; Research - ECPv6.15.20//NONSGML v1.0//EN
CALSCALE:GREGORIAN
METHOD:PUBLISH
X-WR-CALNAME:Polish Institute of Culture &amp; Research
X-ORIGINAL-URL:https://picrol.org
X-WR-CALDESC:Events for Polish Institute of Culture &amp; Research
REFRESH-INTERVAL;VALUE=DURATION:PT1H
X-Robots-Tag:noindex
X-PUBLISHED-TTL:PT1H
BEGIN:VTIMEZONE
TZID:America/Detroit
BEGIN:DAYLIGHT
TZOFFSETFROM:-0500
TZOFFSETTO:-0400
TZNAME:EDT
DTSTART:20250309T070000
END:DAYLIGHT
BEGIN:STANDARD
TZOFFSETFROM:-0400
TZOFFSETTO:-0500
TZNAME:EST
DTSTART:20251102T060000
END:STANDARD
BEGIN:DAYLIGHT
TZOFFSETFROM:-0500
TZOFFSETTO:-0400
TZNAME:EDT
DTSTART:20260308T070000
END:DAYLIGHT
BEGIN:STANDARD
TZOFFSETFROM:-0400
TZOFFSETTO:-0500
TZNAME:EST
DTSTART:20261101T060000
END:STANDARD
BEGIN:DAYLIGHT
TZOFFSETFROM:-0500
TZOFFSETTO:-0400
TZNAME:EDT
DTSTART:20270314T070000
END:DAYLIGHT
BEGIN:STANDARD
TZOFFSETFROM:-0400
TZOFFSETTO:-0500
TZNAME:EST
DTSTART:20271107T060000
END:STANDARD
END:VTIMEZONE
BEGIN:VEVENT
DTSTART;TZID=America/Detroit:20260302T000000
DTEND;TZID=America/Detroit:20260302T235959
DTSTAMP:20260425T061833
CREATED:20260226T024715Z
LAST-MODIFIED:20260226T024715Z
UID:11940-1772409600-1772495999@picrol.org
SUMMARY:Cribbage Night
DESCRIPTION:
URL:https://picrol.org/calendar/cribbage-night-2/
END:VEVENT
BEGIN:VEVENT
DTSTART;TZID=America/Detroit:20260301T000000
DTEND;TZID=America/Detroit:20260301T235959
DTSTAMP:20260425T061833
CREATED:20260226T024758Z
LAST-MODIFIED:20260226T024758Z
UID:11943-1772323200-1772409599@picrol.org
SUMMARY:Polish Movie Night
DESCRIPTION:
URL:https://picrol.org/calendar/polish-movie-night/
END:VEVENT
BEGIN:VEVENT
DTSTART;TZID=America/Detroit:20260228T120000
DTEND;TZID=America/Detroit:20260228T200000
DTSTAMP:20260425T061833
CREATED:20260226T024509Z
LAST-MODIFIED:20260226T024509Z
UID:11934-1772280000-1772308800@picrol.org
SUMMARY:Polish Club Windsor Canada
DESCRIPTION:
URL:https://picrol.org/calendar/polish-club-windsor-canada/
END:VEVENT
BEGIN:VEVENT
DTSTART;TZID=America/Detroit:20260227T000000
DTEND;TZID=America/Detroit:20260227T235959
DTSTAMP:20260425T061833
CREATED:20260226T024922Z
LAST-MODIFIED:20260226T024922Z
UID:11948-1772150400-1772236799@picrol.org
SUMMARY:Karaoke Night 2/27
DESCRIPTION:
URL:https://picrol.org/calendar/karaoke-night-2-27/
END:VEVENT
BEGIN:VEVENT
DTSTART;TZID=America/Detroit:20260227T000000
DTEND;TZID=America/Detroit:20260227T235959
DTSTAMP:20260425T061833
CREATED:20260226T024837Z
LAST-MODIFIED:20260226T024837Z
UID:11946-1772150400-1772236799@picrol.org
SUMMARY:Euchre Night
DESCRIPTION:
URL:https://picrol.org/calendar/euchre-night/
END:VEVENT
BEGIN:VEVENT
DTSTART;TZID=America/Detroit:20260227T000000
DTEND;TZID=America/Detroit:20260227T235959
DTSTAMP:20260425T061833
CREATED:20260225T194337Z
LAST-MODIFIED:20260225T194337Z
UID:11864-1772150400-1772236799@picrol.org
SUMMARY:Ann Arbor Michigan Theatre presents "Triumph of the Heart"
DESCRIPTION:Dla zainteresowanych sylwetką Św. Maximiliana Kolbe\, w dniu 27-go lutego (czwartek)\, odbędzie się projekcja filmu “Triumph of the Heart” o godzinie 7PM.\nhttps://www.tributemovies.com/movie/Triumph-of-the-Heart/187940/\n\nFor those interested a reminder:\nAnn Arbor Michigan theatre presents on Thursday Feb. 27 at 7PM\n“Triumph of the Heart”\n“The St. Maximilian Kolbe and his companions’ triumph over the darkness of Auschwitz.
URL:https://picrol.org/calendar/ann-arbor-michigan-theatre-presents-triumph-of-the-heart/
END:VEVENT
BEGIN:VEVENT
DTSTART;TZID=America/Detroit:20260221T000000
DTEND;TZID=America/Detroit:20260221T235959
DTSTAMP:20260425T061833
CREATED:20260225T194553Z
LAST-MODIFIED:20260225T194553Z
UID:11871-1771632000-1771718399@picrol.org
SUMMARY:AAPA Bakers' Gathering
DESCRIPTION:AAPA invites all bakers who enriched last year’s Ann Arbor Polish Film Festival with their baked goods to a gathering on February 21\, 2026\, from 1–4 pm at Sidetrack Bar & Grill (56 Cross Street\, Depot Town\, Ypsilanti\, MI 48198).\nWebsite: sidetrackbarandgrill.com
URL:https://picrol.org/calendar/aapa-bakers-gathering/
END:VEVENT
BEGIN:VEVENT
DTSTART;TZID=America/Detroit:20260221T000000
DTEND;TZID=America/Detroit:20260221T235959
DTSTAMP:20260425T061833
CREATED:20260210T182615Z
LAST-MODIFIED:20260210T182615Z
UID:11807-1771632000-1771718399@picrol.org
SUMMARY:Ann Arbor Polish Film Festival Gathering
DESCRIPTION:AAPA invites all bakers who enriched last year’s Ann Arbor Polish Film Festival with their baked goods to a gathering on February 21\, 2026\, from 1–4 pm at Sidetrack Bar & Grill (56 Cross Street\, Depot Town\, Ypsilanti\, MI 48198).\nWebsite: sidetrackbarandgrill.com \nWe hope to see all of you there \nAnn Arbor Polonia Association \nPoloniaAnnArbor@gmail.com
URL:https://picrol.org/calendar/ann-arbor-polish-film-festival-gathering/
END:VEVENT
BEGIN:VEVENT
DTSTART;TZID=America/Detroit:20260220T000000
DTEND;TZID=America/Detroit:20260403T235959
DTSTAMP:20260425T061833
CREATED:20260206T224410Z
LAST-MODIFIED:20260206T224410Z
UID:11731-1771545600-1775260799@picrol.org
SUMMARY:St. Joseph\, Erie\, MI  Lenten Fish Frys
DESCRIPTION:
URL:https://picrol.org/calendar/st-joseph-erie-mi-lenten-fish-frys/
END:VEVENT
BEGIN:VEVENT
DTSTART;TZID=America/Detroit:20260217T080000
DTEND;TZID=America/Detroit:20260217T170000
DTSTAMP:20260425T061833
CREATED:20260206T230238Z
LAST-MODIFIED:20260206T230658Z
UID:11774-1771315200-1771347600@picrol.org
SUMMARY:Paczki Day Celebration with Kielbasa Kings
DESCRIPTION:Hamtramck
URL:https://picrol.org/calendar/paczki-day-celebration-with-kielbasa-kinds/
END:VEVENT
BEGIN:VEVENT
DTSTART;TZID=America/Detroit:20260217T080000
DTEND;TZID=America/Detroit:20260217T170000
DTSTAMP:20260425T061833
CREATED:20260206T230202Z
LAST-MODIFIED:20260206T230202Z
UID:11772-1771315200-1771347600@picrol.org
SUMMARY:Polish Muslims Paczki Day Concert
DESCRIPTION:
URL:https://picrol.org/calendar/polish-muslims-paczki-day-concert/
END:VEVENT
BEGIN:VEVENT
DTSTART;TZID=America/Detroit:20260217T000000
DTEND;TZID=America/Detroit:20260217T235959
DTSTAMP:20260425T061833
CREATED:20260210T182802Z
LAST-MODIFIED:20260210T182802Z
UID:11810-1771286400-1771372799@picrol.org
SUMMARY:Fat Tuesday Party Muskegon
DESCRIPTION:
URL:https://picrol.org/calendar/fat-tuesday-party-muskegon/
END:VEVENT
BEGIN:VEVENT
DTSTART;TZID=America/Detroit:20260217T000000
DTEND;TZID=America/Detroit:20260217T235959
DTSTAMP:20260425T061833
CREATED:20260206T230109Z
LAST-MODIFIED:20260206T230109Z
UID:11770-1771286400-1771372799@picrol.org
SUMMARY:Paczki Day Celebration
DESCRIPTION:
URL:https://picrol.org/calendar/paczki-day-celebration/
LOCATION:American Polish Cultural Center\, 2975 E. Maple Road\, Troy\, MI\, United States
END:VEVENT
BEGIN:VEVENT
DTSTART;TZID=America/Detroit:20260215T000000
DTEND;TZID=America/Detroit:20260215T235959
DTSTAMP:20260425T061833
CREATED:20260206T225414Z
LAST-MODIFIED:20260206T225414Z
UID:11755-1771113600-1771199999@picrol.org
SUMMARY:APCS - Newly Elected Board Installation Ceremony
DESCRIPTION:
URL:https://picrol.org/calendar/apcs-newly-elected-board-installation-ceremony/
LOCATION:American Polish Cultural Center\, 2975 E. Maple Road\, Troy\, MI\, United States
END:VEVENT
BEGIN:VEVENT
DTSTART;TZID=America/Detroit:20260214T000000
DTEND;TZID=America/Detroit:20260214T235959
DTSTAMP:20260425T061833
CREATED:20260206T230015Z
LAST-MODIFIED:20260206T230015Z
UID:11768-1771027200-1771113599@picrol.org
SUMMARY:Valentine's Dinner for Two at Wawel Restaurant
DESCRIPTION:
URL:https://picrol.org/calendar/valentines-dinner-for-two-at-wawel-restaurant/
LOCATION:American Polish Cultural Center\, 2975 E. Maple Road\, Troy\, MI\, United States
END:VEVENT
BEGIN:VEVENT
DTSTART;TZID=America/Detroit:20260214T000000
DTEND;TZID=America/Detroit:20260214T235959
DTSTAMP:20260425T061833
CREATED:20260206T225944Z
LAST-MODIFIED:20260206T225944Z
UID:11766-1771027200-1771113599@picrol.org
SUMMARY:Paczki Run 2026 Hamtramck
DESCRIPTION:
URL:https://picrol.org/calendar/paczki-run-2026-hamtramck/
END:VEVENT
BEGIN:VEVENT
DTSTART;TZID=America/Detroit:20260213T190000
DTEND;TZID=America/Detroit:20260213T190000
DTSTAMP:20260425T061833
CREATED:20260112T173238Z
LAST-MODIFIED:20260112T173256Z
UID:11638-1771009200-1771009200@picrol.org
SUMMARY:Casa Piano Concert - Galeria
DESCRIPTION:Advanced Registration ($40 at the door)\nExperience the expressive power of the Romantic era with three richly emotional works for piano quartet. Discover Żeleński’s passionate and rarely heard Piano Quartet in C Minor\, Mahler’s brooding and youthful Piano Quartet in A Minor\, and Schumann’s beloved and lyrical Piano Quartet in E-flat Major. An unforgettable evening of intimate chamber music awaits with the Casa Piano Quartet! Detroit Symphony Orchestra musicians Marian Tănău\, violin; Mike Chen\, viola; David LeDoux\, cello; with Kazimierz Brzozowski\, piano. Galeria 3535 Commerce Rd. Orchard Lake\, MI 48324\nTICKETS AVAILBALE: https://host.nxt.blackbaud.com/registration-form/?formId=4761f9ad-0b4a-4ca7-b09f-c6a49691b83a&envId=p-o_30Nj0PUEyjFEaf_w9bWw&zone=usa
URL:https://picrol.org/calendar/casa-piano-concert-galeria/
LOCATION:3535 COMMERCE ROAD  ORCHARD LAKE VILLAGE\, MI 48324\, 3535 COMMERCE ROAD\, ORCHARD LAKE VILLAGE\, MI\, 48324\, United States
END:VEVENT
BEGIN:VEVENT
DTSTART;TZID=America/Detroit:20260213T180000
DTEND;TZID=America/Detroit:20260213T180000
DTSTAMP:20260425T061833
CREATED:20260210T183103Z
LAST-MODIFIED:20260210T183103Z
UID:11818-1771005600-1771005600@picrol.org
SUMMARY:Valentine Dinner Jackson St Hall
DESCRIPTION:
URL:https://picrol.org/calendar/valentine-dinner-jackson-st-hall/
END:VEVENT
BEGIN:VEVENT
DTSTART;TZID=America/Detroit:20260211T110000
DTEND;TZID=America/Detroit:20260211T140000
DTSTAMP:20260425T061833
CREATED:20260206T224639Z
LAST-MODIFIED:20260206T224639Z
UID:11734-1770807600-1770818400@picrol.org
SUMMARY:[Ohio] Toledo Polish Genealogical Society Library
DESCRIPTION:
URL:https://picrol.org/calendar/ohio-toledo-polish-genealogical-society-library/
END:VEVENT
BEGIN:VEVENT
DTSTART;TZID=America/Detroit:20260209T190000
DTEND;TZID=America/Detroit:20260209T190000
DTSTAMP:20260425T061833
CREATED:20260206T225000Z
LAST-MODIFIED:20260206T225000Z
UID:11746-1770663600-1770663600@picrol.org
SUMMARY:Kościuszko Hall - Membership Meeting
DESCRIPTION:
URL:https://picrol.org/calendar/kosciuszko-hall-membership-meeting/
END:VEVENT
BEGIN:VEVENT
DTSTART;TZID=America/Detroit:20260208T143000
DTEND;TZID=America/Detroit:20260208T143000
DTSTAMP:20260425T061833
CREATED:20260206T225046Z
LAST-MODIFIED:20260206T225046Z
UID:11749-1770561000-1770561000@picrol.org
SUMMARY:Post 95 Veterans Meeting
DESCRIPTION:
URL:https://picrol.org/calendar/post-95-veterans-meeting/
END:VEVENT
BEGIN:VEVENT
DTSTART;TZID=America/Detroit:20260208T080000
DTEND;TZID=America/Detroit:20260208T120000
DTSTAMP:20260425T061833
CREATED:20260206T225307Z
LAST-MODIFIED:20260206T225307Z
UID:11752-1770537600-1770552000@picrol.org
SUMMARY:Jackson Street Sunday Breakfast
DESCRIPTION:
URL:https://picrol.org/calendar/jackson-street-sunday-breakfast/
END:VEVENT
BEGIN:VEVENT
DTSTART;TZID=America/Detroit:20260208T000000
DTEND;TZID=America/Detroit:20260208T235959
DTSTAMP:20260425T061833
CREATED:20260206T225821Z
LAST-MODIFIED:20260206T225821Z
UID:11764-1770508800-1770595199@picrol.org
SUMMARY:Paczki Brunch - Pietrzyk Pierogi
DESCRIPTION:Urbanrest Brewing Company – Ferndale
URL:https://picrol.org/calendar/paczki-brunch-pietrzyk-pierogi/
END:VEVENT
BEGIN:VEVENT
DTSTART;TZID=America/Detroit:20260207T120000
DTEND;TZID=America/Detroit:20260207T130000
DTSTAMP:20260425T061833
CREATED:20260206T223832Z
LAST-MODIFIED:20260206T223832Z
UID:11715-1770465600-1770469200@picrol.org
SUMMARY:Intro to the Polish Language & Cuisine
DESCRIPTION:
URL:https://picrol.org/calendar/intro-to-the-polish-language-cuisine/
END:VEVENT
BEGIN:VEVENT
DTSTART;TZID=America/Detroit:20260207T000000
DTEND;TZID=America/Detroit:20260327T235959
DTSTAMP:20260425T061833
CREATED:20260206T224153Z
LAST-MODIFIED:20260206T224207Z
UID:11719-1770422400-1774655999@picrol.org
SUMMARY:Fridays During Lent - Lenten Seafood Polish Dinners
DESCRIPTION:
URL:https://picrol.org/calendar/lenten-seafood-polish-dinners/
LOCATION:American Polish Century Club of Sterling Heights
END:VEVENT
BEGIN:VEVENT
DTSTART;TZID=America/Detroit:20260207T000000
DTEND;TZID=America/Detroit:20260327T235959
DTSTAMP:20260425T061833
CREATED:20260206T223656Z
LAST-MODIFIED:20260206T223656Z
UID:11711-1770422400-1774655999@picrol.org
SUMMARY:Friday Fish Fry - Grand Rapids
DESCRIPTION:
URL:https://picrol.org/calendar/friday-fish-fry-grand-rapids/
END:VEVENT
BEGIN:VEVENT
DTSTART;TZID=America/Detroit:20260207T000000
DTEND;TZID=America/Detroit:20260207T235959
DTSTAMP:20260425T061833
CREATED:20260206T225648Z
LAST-MODIFIED:20260206T225648Z
UID:11762-1770422400-1770508799@picrol.org
SUMMARY:Klub Polonia Valentine's Day Party
DESCRIPTION:Our Lady of the Scapular Parish – Wyandotte
URL:https://picrol.org/calendar/klub-polonia-valentines-day-party-2/
END:VEVENT
BEGIN:VEVENT
DTSTART;TZID=America/Detroit:20260207T000000
DTEND;TZID=America/Detroit:20260207T235959
DTSTAMP:20260425T061833
CREATED:20260206T225603Z
LAST-MODIFIED:20260206T225603Z
UID:11760-1770422400-1770508799@picrol.org
SUMMARY:Wolvball Charity Ball - Ann Arbor
DESCRIPTION:Polish Student Association
URL:https://picrol.org/calendar/wolvball-charity-ball-ann-arbor/
END:VEVENT
BEGIN:VEVENT
DTSTART;TZID=America/Detroit:20260207T000000
DTEND;TZID=America/Detroit:20260207T235959
DTSTAMP:20260425T061833
CREATED:20260206T225518Z
LAST-MODIFIED:20260206T225518Z
UID:11758-1770422400-1770508799@picrol.org
SUMMARY:Friends of Polish Art Officers and Directors Election
DESCRIPTION:
URL:https://picrol.org/calendar/friends-of-polish-art-officers-and-directors-election/
LOCATION:American Polish Cultural Center\, 2975 E. Maple Road\, Troy\, MI\, United States
END:VEVENT
BEGIN:VEVENT
DTSTART;TZID=America/Detroit:20260124T160000
DTEND;TZID=America/Detroit:20260124T160000
DTSTAMP:20260425T061833
CREATED:20260112T173343Z
LAST-MODIFIED:20260112T173343Z
UID:11642-1769270400-1769270400@picrol.org
SUMMARY:Polish Christmas Carols Concert - Galeria
DESCRIPTION:
URL:https://picrol.org/calendar/polish-christmas-carols-concert-galeria/
LOCATION:3535 COMMERCE ROAD  ORCHARD LAKE VILLAGE\, MI 48324\, 3535 COMMERCE ROAD\, ORCHARD LAKE VILLAGE\, MI\, 48324\, United States
END:VEVENT
END:VCALENDAR