BEGIN:VCALENDAR
VERSION:2.0
PRODID:-//Polish Institute of Culture &amp; Research - ECPv6.15.20//NONSGML v1.0//EN
CALSCALE:GREGORIAN
METHOD:PUBLISH
X-WR-CALNAME:Polish Institute of Culture &amp; Research
X-ORIGINAL-URL:https://picrol.org
X-WR-CALDESC:Events for Polish Institute of Culture &amp; Research
REFRESH-INTERVAL;VALUE=DURATION:PT1H
X-Robots-Tag:noindex
X-PUBLISHED-TTL:PT1H
BEGIN:VTIMEZONE
TZID:America/Detroit
BEGIN:DAYLIGHT
TZOFFSETFROM:-0500
TZOFFSETTO:-0400
TZNAME:EDT
DTSTART:20250309T070000
END:DAYLIGHT
BEGIN:STANDARD
TZOFFSETFROM:-0400
TZOFFSETTO:-0500
TZNAME:EST
DTSTART:20251102T060000
END:STANDARD
BEGIN:DAYLIGHT
TZOFFSETFROM:-0500
TZOFFSETTO:-0400
TZNAME:EDT
DTSTART:20260308T070000
END:DAYLIGHT
BEGIN:STANDARD
TZOFFSETFROM:-0400
TZOFFSETTO:-0500
TZNAME:EST
DTSTART:20261101T060000
END:STANDARD
BEGIN:DAYLIGHT
TZOFFSETFROM:-0500
TZOFFSETTO:-0400
TZNAME:EDT
DTSTART:20270314T070000
END:DAYLIGHT
BEGIN:STANDARD
TZOFFSETFROM:-0400
TZOFFSETTO:-0500
TZNAME:EST
DTSTART:20271107T060000
END:STANDARD
END:VTIMEZONE
BEGIN:VEVENT
DTSTART;TZID=America/Detroit:20260503T000000
DTEND;TZID=America/Detroit:20260503T235959
DTSTAMP:20260421T081041
CREATED:20260414T123624Z
LAST-MODIFIED:20260414T123624Z
UID:12232-1777766400-1777852799@picrol.org
SUMMARY:OLS Obchody Konstytucji Trzeciego Maja
DESCRIPTION:
URL:https://picrol.org/calendar/ols-obchody-konstytucji-trzeciego-maja/
LOCATION:3535 COMMERCE ROAD  ORCHARD LAKE VILLAGE\, MI 48324\, 3535 COMMERCE ROAD\, ORCHARD LAKE VILLAGE\, MI\, 48324\, United States
END:VEVENT
BEGIN:VEVENT
DTSTART;TZID=America/Detroit:20260510T000000
DTEND;TZID=America/Detroit:20260510T235959
DTSTAMP:20260421T081042
CREATED:20260401T231145Z
LAST-MODIFIED:20260401T231145Z
UID:12158-1778371200-1778457599@picrol.org
SUMMARY:Happy Mother's Day
DESCRIPTION:
URL:https://picrol.org/calendar/happy-mothers-day/
LOCATION:MI
END:VEVENT
BEGIN:VEVENT
DTSTART;TZID=America/Detroit:20260515T000000
DTEND;TZID=America/Detroit:20260515T235959
DTSTAMP:20260421T081042
CREATED:20260401T230642Z
LAST-MODIFIED:20260401T230642Z
UID:12148-1778803200-1778889599@picrol.org
SUMMARY:Polish Institute Literary Salon - Launch
DESCRIPTION:
URL:https://picrol.org/calendar/polish-institute-literary-salon-launch/
LOCATION:MI
END:VEVENT
BEGIN:VEVENT
DTSTART;TZID=America/Detroit:20260515T190000
DTEND;TZID=America/Detroit:20260515T190000
DTSTAMP:20260421T081042
CREATED:20260407T231519Z
LAST-MODIFIED:20260407T231519Z
UID:12203-1778871600-1778871600@picrol.org
SUMMARY:[Ohio] An Evening of Music with Dominika Zamara
DESCRIPTION:
URL:https://picrol.org/calendar/ohio-an-evening-of-music-with-dominika-zamara/
LOCATION:MI
END:VEVENT
BEGIN:VEVENT
DTSTART;TZID=America/Detroit:20260601T000000
DTEND;TZID=America/Detroit:20260601T235959
DTSTAMP:20260421T081042
CREATED:20250117T185140Z
LAST-MODIFIED:20250117T185140Z
UID:8334-1780272000-1780358399@picrol.org
SUMMARY:Poland Trip and Class - University of St. Thomas
DESCRIPTION:
URL:https://picrol.org/calendar/poland-trip-and-class-university-of-st-thomas/
LOCATION:MI
END:VEVENT
BEGIN:VEVENT
DTSTART;TZID=America/Detroit:20260606T000000
DTEND;TZID=America/Detroit:20260616T235959
DTSTAMP:20260421T081042
CREATED:20251111T173420Z
LAST-MODIFIED:20251111T173420Z
UID:11187-1780704000-1781654399@picrol.org
SUMMARY:Study Abroad in Poland
DESCRIPTION:
URL:https://picrol.org/calendar/study-abroad-in-poland/
LOCATION:MI
END:VEVENT
BEGIN:VEVENT
DTSTART;TZID=America/Detroit:20261010T000000
DTEND;TZID=America/Detroit:20261010T235959
DTSTAMP:20260421T081042
CREATED:20260303T160527Z
LAST-MODIFIED:20260303T160527Z
UID:12025-1791590400-1791676799@picrol.org
SUMMARY:250th Anniversary of the US - a formal Gala
DESCRIPTION:
URL:https://picrol.org/calendar/250th-anniversary-of-the-us-a-formal-gala/
LOCATION:MI
END:VEVENT
BEGIN:VEVENT
DTSTART;TZID=America/Detroit:20261019T000000
DTEND;TZID=America/Detroit:20261031T235959
DTSTAMP:20260421T081042
CREATED:20260226T025530Z
LAST-MODIFIED:20260226T025530Z
UID:11964-1792368000-1793491199@picrol.org
SUMMARY:Pielgrzymka - Chorwacja & Włochy
DESCRIPTION:
URL:https://picrol.org/calendar/pielgrzymka-chorwacja-wlochy/
LOCATION:MI
END:VEVENT
END:VCALENDAR