BEGIN:VCALENDAR
VERSION:2.0
PRODID:-//Polish Institute of Culture &amp; Research - ECPv6.15.20//NONSGML v1.0//EN
CALSCALE:GREGORIAN
METHOD:PUBLISH
X-ORIGINAL-URL:https://picrol.org
X-WR-CALDESC:Events for Polish Institute of Culture &amp; Research
REFRESH-INTERVAL;VALUE=DURATION:PT1H
X-Robots-Tag:noindex
X-PUBLISHED-TTL:PT1H
BEGIN:VTIMEZONE
TZID:America/Detroit
BEGIN:DAYLIGHT
TZOFFSETFROM:-0500
TZOFFSETTO:-0400
TZNAME:EDT
DTSTART:20250309T070000
END:DAYLIGHT
BEGIN:STANDARD
TZOFFSETFROM:-0400
TZOFFSETTO:-0500
TZNAME:EST
DTSTART:20251102T060000
END:STANDARD
BEGIN:DAYLIGHT
TZOFFSETFROM:-0500
TZOFFSETTO:-0400
TZNAME:EDT
DTSTART:20260308T070000
END:DAYLIGHT
BEGIN:STANDARD
TZOFFSETFROM:-0400
TZOFFSETTO:-0500
TZNAME:EST
DTSTART:20261101T060000
END:STANDARD
BEGIN:DAYLIGHT
TZOFFSETFROM:-0500
TZOFFSETTO:-0400
TZNAME:EDT
DTSTART:20270314T070000
END:DAYLIGHT
BEGIN:STANDARD
TZOFFSETFROM:-0400
TZOFFSETTO:-0500
TZNAME:EST
DTSTART:20271107T060000
END:STANDARD
END:VTIMEZONE
BEGIN:VEVENT
DTSTART;TZID=America/Detroit:20260428T000000
DTEND;TZID=America/Detroit:20260428T235959
DTSTAMP:20260423T095544
CREATED:20260401T225814Z
LAST-MODIFIED:20260401T225814Z
UID:12123-1777334400-1777420799@picrol.org
SUMMARY:Polish Heritage Center - Founding Father Fundraiser
DESCRIPTION:
URL:https://picrol.org/calendar/polish-heritage-center-founding-father-fundraiser/
END:VEVENT
BEGIN:VEVENT
DTSTART;TZID=America/Detroit:20260428T190000
DTEND;TZID=America/Detroit:20260428T190000
DTSTAMP:20260423T095544
CREATED:20260225T194157Z
LAST-MODIFIED:20260225T194157Z
UID:11861-1777402800-1777402800@picrol.org
SUMMARY:OLSM Spring Concert
DESCRIPTION:
URL:https://picrol.org/calendar/olsm-spring-concert/
LOCATION:3535 COMMERCE ROAD  ORCHARD LAKE VILLAGE\, MI 48324\, 3535 COMMERCE ROAD\, ORCHARD LAKE VILLAGE\, MI\, 48324\, United States
END:VEVENT
BEGIN:VEVENT
DTSTART;TZID=America/Detroit:20260503T000000
DTEND;TZID=America/Detroit:20260503T235959
DTSTAMP:20260423T095544
CREATED:20260401T225933Z
LAST-MODIFIED:20260401T225933Z
UID:12129-1777766400-1777852799@picrol.org
SUMMARY:[Ohio] Polish Constitution Weekend Celebration
DESCRIPTION:
URL:https://picrol.org/calendar/ohio-polish-constitution-weekend-celebration/
END:VEVENT
BEGIN:VEVENT
DTSTART;TZID=America/Detroit:20260503T000000
DTEND;TZID=America/Detroit:20260503T235959
DTSTAMP:20260423T095544
CREATED:20260401T230118Z
LAST-MODIFIED:20260401T230118Z
UID:12135-1777766400-1777852799@picrol.org
SUMMARY:Mass Mob LXI
DESCRIPTION:
URL:https://picrol.org/calendar/mass-mob-lxi/
END:VEVENT
BEGIN:VEVENT
DTSTART;TZID=America/Detroit:20260503T000000
DTEND;TZID=America/Detroit:20260503T235959
DTSTAMP:20260423T095544
CREATED:20260401T230213Z
LAST-MODIFIED:20260407T231730Z
UID:12138-1777766400-1777852799@picrol.org
SUMMARY:PICR OLS - 5K RUN & WALK
DESCRIPTION:  \nREGISTER TODAY! TICKETS AVAILABLE NOW
URL:https://picrol.org/calendar/picr-ols-5k-run-walk/
LOCATION:3535 COMMERCE ROAD  ORCHARD LAKE VILLAGE\, MI 48324\, 3535 COMMERCE ROAD\, ORCHARD LAKE VILLAGE\, MI\, 48324\, United States
CATEGORIES:OLS Event,PICR EVENTS,Polish History,Polish Holiday,Polish Traditions
END:VEVENT
BEGIN:VEVENT
DTSTART;TZID=America/Detroit:20260503T000000
DTEND;TZID=America/Detroit:20260503T235959
DTSTAMP:20260423T095544
CREATED:20260407T231608Z
LAST-MODIFIED:20260407T231608Z
UID:12206-1777766400-1777852799@picrol.org
SUMMARY:[Ohio] 2026 Northwest Ohio Polish Cultural Center Hall of Fame Dinner
DESCRIPTION:
URL:https://picrol.org/calendar/ohio-2026-northwest-ohio-polish-cultural-center-hall-of-fame-dinner/
END:VEVENT
BEGIN:VEVENT
DTSTART;TZID=America/Detroit:20260503T000000
DTEND;TZID=America/Detroit:20260503T235959
DTSTAMP:20260423T095544
CREATED:20260414T123624Z
LAST-MODIFIED:20260414T123624Z
UID:12232-1777766400-1777852799@picrol.org
SUMMARY:OLS Obchody Konstytucji Trzeciego Maja
DESCRIPTION:
URL:https://picrol.org/calendar/ols-obchody-konstytucji-trzeciego-maja/
LOCATION:3535 COMMERCE ROAD  ORCHARD LAKE VILLAGE\, MI 48324\, 3535 COMMERCE ROAD\, ORCHARD LAKE VILLAGE\, MI\, 48324\, United States
END:VEVENT
BEGIN:VEVENT
DTSTART;TZID=America/Detroit:20260509T113000
DTEND;TZID=America/Detroit:20260509T113000
DTSTAMP:20260423T095544
CREATED:20260422T122716Z
LAST-MODIFIED:20260422T122716Z
UID:12279-1778326200-1778326200@picrol.org
SUMMARY:Friends of Polish Art at the DIA Tour
DESCRIPTION:
URL:https://picrol.org/calendar/friends-of-polish-art-at-the-dia-tour/
LOCATION:DIA
END:VEVENT
BEGIN:VEVENT
DTSTART;TZID=America/Detroit:20260510T000000
DTEND;TZID=America/Detroit:20260510T235959
DTSTAMP:20260423T095544
CREATED:20260401T231145Z
LAST-MODIFIED:20260401T231145Z
UID:12158-1778371200-1778457599@picrol.org
SUMMARY:Happy Mother's Day
DESCRIPTION:
URL:https://picrol.org/calendar/happy-mothers-day/
END:VEVENT
BEGIN:VEVENT
DTSTART;TZID=America/Detroit:20260510T120000
DTEND;TZID=America/Detroit:20260510T160000
DTSTAMP:20260423T095544
CREATED:20260422T122810Z
LAST-MODIFIED:20260422T122810Z
UID:12288-1778414400-1778428800@picrol.org
SUMMARY:Mother's Day Buffet
DESCRIPTION:
URL:https://picrol.org/calendar/mothers-day-buffet/
LOCATION:American Polish Cultural Center\, 2975 E. Maple Road\, Troy\, MI\, United States
END:VEVENT
BEGIN:VEVENT
DTSTART;TZID=America/Detroit:20260515T000000
DTEND;TZID=America/Detroit:20260515T235959
DTSTAMP:20260423T095544
CREATED:20260401T230642Z
LAST-MODIFIED:20260401T230642Z
UID:12148-1778803200-1778889599@picrol.org
SUMMARY:Polish Institute Literary Salon - Launch
DESCRIPTION:
URL:https://picrol.org/calendar/polish-institute-literary-salon-launch/
END:VEVENT
BEGIN:VEVENT
DTSTART;TZID=America/Detroit:20260515T190000
DTEND;TZID=America/Detroit:20260515T190000
DTSTAMP:20260423T095544
CREATED:20260407T231519Z
LAST-MODIFIED:20260407T231519Z
UID:12203-1778871600-1778871600@picrol.org
SUMMARY:[Ohio] An Evening of Music with Dominika Zamara
DESCRIPTION:
URL:https://picrol.org/calendar/ohio-an-evening-of-music-with-dominika-zamara/
END:VEVENT
BEGIN:VEVENT
DTSTART;TZID=America/Detroit:20260515T190000
DTEND;TZID=America/Detroit:20260515T190000
DTSTAMP:20260423T095544
CREATED:20260422T122410Z
LAST-MODIFIED:20260422T122410Z
UID:12271-1778871600-1778871600@picrol.org
SUMMARY:Conversation with the Author of "The Warsaw Sisters"
DESCRIPTION:
URL:https://picrol.org/calendar/conversation-with-the-author-of-the-warsaw-sisters/
LOCATION:3535 COMMERCE ROAD  ORCHARD LAKE VILLAGE\, MI 48324\, 3535 COMMERCE ROAD\, ORCHARD LAKE VILLAGE\, MI\, 48324\, United States
CATEGORIES:PICR EVENTS
END:VEVENT
BEGIN:VEVENT
DTSTART;TZID=America/Detroit:20260523T140000
DTEND;TZID=America/Detroit:20260523T140000
DTSTAMP:20260423T095544
CREATED:20260422T122522Z
LAST-MODIFIED:20260422T122522Z
UID:12275-1779544800-1779544800@picrol.org
SUMMARY:Concert at Galeria
DESCRIPTION:
URL:https://picrol.org/calendar/concert-at-galeria/
LOCATION:3535 COMMERCE ROAD  ORCHARD LAKE VILLAGE\, MI 48324\, 3535 COMMERCE ROAD\, ORCHARD LAKE VILLAGE\, MI\, 48324\, United States
END:VEVENT
BEGIN:VEVENT
DTSTART;TZID=America/Detroit:20260530T000000
DTEND;TZID=America/Detroit:20260530T235959
DTSTAMP:20260423T095544
CREATED:20260422T122849Z
LAST-MODIFIED:20260422T122849Z
UID:12291-1780099200-1780185599@picrol.org
SUMMARY:Walking Tour of Detroit Eastern Market
DESCRIPTION:
URL:https://picrol.org/calendar/walking-tour-of-detroit-eastern-market/
END:VEVENT
BEGIN:VEVENT
DTSTART;TZID=America/Detroit:20260601T000000
DTEND;TZID=America/Detroit:20260601T235959
DTSTAMP:20260423T095544
CREATED:20250117T185140Z
LAST-MODIFIED:20250117T185140Z
UID:8334-1780272000-1780358399@picrol.org
SUMMARY:Poland Trip and Class - University of St. Thomas
DESCRIPTION:
URL:https://picrol.org/calendar/poland-trip-and-class-university-of-st-thomas/
END:VEVENT
BEGIN:VEVENT
DTSTART;TZID=America/Detroit:20260606T000000
DTEND;TZID=America/Detroit:20260616T235959
DTSTAMP:20260423T095544
CREATED:20251111T173420Z
LAST-MODIFIED:20251111T173420Z
UID:11187-1780704000-1781654399@picrol.org
SUMMARY:Study Abroad in Poland
DESCRIPTION:
URL:https://picrol.org/calendar/study-abroad-in-poland/
END:VEVENT
BEGIN:VEVENT
DTSTART;TZID=America/Detroit:20261010T000000
DTEND;TZID=America/Detroit:20261010T235959
DTSTAMP:20260423T095544
CREATED:20260303T160527Z
LAST-MODIFIED:20260303T160527Z
UID:12025-1791590400-1791676799@picrol.org
SUMMARY:250th Anniversary of the US - a formal Gala
DESCRIPTION:
URL:https://picrol.org/calendar/250th-anniversary-of-the-us-a-formal-gala/
END:VEVENT
BEGIN:VEVENT
DTSTART;TZID=America/Detroit:20261019T000000
DTEND;TZID=America/Detroit:20261031T235959
DTSTAMP:20260423T095544
CREATED:20260226T025530Z
LAST-MODIFIED:20260226T025530Z
UID:11964-1792368000-1793491199@picrol.org
SUMMARY:Pielgrzymka - Chorwacja & Włochy
DESCRIPTION:
URL:https://picrol.org/calendar/pielgrzymka-chorwacja-wlochy/
END:VEVENT
END:VCALENDAR